BEGIN:VCALENDAR
VERSION:2.0
PRODID:spatie/icalendar-generator
DESCRIPTION:Events from Ened Sports
X-WR-CALDESC:Events from Ened Sports
REFRESH-INTERVAL;VALUE=DURATION:PT1440M
X-PUBLISHED-TTL:PT1440M
BEGIN:VTIMEZONE
TZID:Etc/GMT+0
BEGIN:STANDARD
DTSTART:20240827T000000Z
TZOFFSETFROM:+0000
TZOFFSETTO:+0000
END:STANDARD
END:VTIMEZONE
BEGIN:VTIMEZONE
TZID:UTC
BEGIN:STANDARD
DTSTART:20250727T090133Z
TZOFFSETFROM:+0000
TZOFFSETTO:+0000
END:STANDARD
END:VTIMEZONE
BEGIN:VEVENT
UID:7-7
DTSTAMP:20260423T090133Z
SUMMARY:10K Laredo\, Santander. World Athletics Label
LOCATION:
ORGANIZER;CN=admin:MAILTO:aperez@iasuma.com
DTSTART;TZID=Etc/GMT+0;VALUE=DATE:20250524
DTEND;TZID=Etc/GMT+0;VALUE=DATE:20250525
X-ALT-DESC;FMTTYPE=TEXT/HTML:
CATEGORIES:General
URL;VALUE=URI:https://enedsports.com/mc-events/10k-laredo-santander-world-a
 thletics-label/
METHOD:PUBLISH
END:VEVENT
END:VCALENDAR